BEGIN:VCALENDAR
VERSION:2.0
PRODID:-//hacksw/handcal//NONSGML v1.0//EN
BEGIN:VEVENT
SUMMARY:Inscription tournois tennis de table (paiement par CB)
UID:7cd3fb93-43f7-4b6b-8671-fc11b70307ef
DTSTART:20260621T063000Z
DTEND:20260621T160000Z
LOCATION:Localisation   
CATEGORIES:Manifestation
STATUS:
DESCRIPTION:<p><span style="font-size:18px;"><strong>Notice
 inscription :</strong></span></p>
 
 <ul>
 	<li><span
 style="font-size:18px;"><strong><a
 href="https://drive.google.com/file/d/1GwOYFebeIYzF9VQ-6ZhA_64UgODQLOxc/view?usp=drive_link"
 target="_blank" rel="noreferrer noopener">notice inscription tournoi
 tennis de table 2026</a></strong></span></li>
 </ul>
URL;VALUE=URI:https://www.usvernou.fr/evenements/2026/06/21/inscription-tournois-tennis-de-table-paiement-par-cb-2430642
END:VEVENT
END:VCALENDAR
